Workbook
Name Business_Cycle: #REF!
Name Contraction: 'WORK ONLY - Action Plan'!$G$30:$G$32
Name Expansion: 'WORK ONLY - Action Plan'!$F$30:$F$32
Name High_Unemployment: 'WORK ONLY - Action Plan'!$I$30:$I$32
Name Higher_Income_per_Capita: 'WORK ONLY - Action Plan'!$M$30:$M$32
Name Higher_Interest_Rates: 'WORK ONLY - Action Plan'!$K$30:$K$32
Name Low: #REF!
Name Low_Unemployment: 'WORK ONLY - Action Plan'!$L$30:$L$32
Name Lower_Income_per_Capita: 'WORK ONLY - Action Plan'!$J$30:$J$32
Name Lower_Interest_Rates: 'WORK ONLY - Action Plan'!$N$30:$N$32

Sheet INSTRUCTIONS
A1: How the Business Cycle Affects Your Financial Plan
A11: Instructions: WORK ONLY - Expansion tab
A13: 1. Fill in your income and expenses over the next 4 years (try to be as precise as possible.)
A15: 2. Look at how much debt or surplus you have after 4 years (see result on the bottom line)
A17: 3. Evaluate how well you've met your goals in the Expansion period.
A20: Instructions: WORK ONLY - Contraction tab
A21: (ADJUST YOUR BUDGET FOR POTENTIAL SCENARIOS IDENTIFIED)
A23: 1. For each of the scenarios you identified, add or delete the Income Sources
A25: 2. For each of the scenarios identified, increase or decrease the Expense Items
A27: 3. Evaluate how well you've met your goals in the Contraction period.
A30: Instructions: WORK ONLY - Action Plan
A32: 1. Compare the results of your budget arising from each period of the business cycle.
A34: 2. Use the Drop Down menus in each column to develop strategies and action plans in response to the business cycle.

Sheet WORK ONLY - Expansion
A1: How the Business Cycle Affects Your Financial Plan
A2: Work Only - Expansion Period
B4: Year | G4: Instructions:
A5: Categories | B5: 1 | C5: 2 | D5: 3 | E5: 4
A6: Income | G6: 1. Fill in your income and expenses over the next 4 years (try to be as precise as possible.)
A7: Full time job
A8: Part time job | G8: 2. Look at how much debt or surplus you have after 4 years (see result on the bottom line)
A9: Part time job
A10: Parent's Funds | G10: 3. Evaluate how well you've met your goals in this Expansion period by answering the questions below:
A13: TOTAL INCOME | B13: =SUM(B7:B12) -> 0 | C13: =SUM(C7:C12) -> 0 | D13: =SUM(D7:D12) -> 0 | E13: =SUM(E7:E12) -> 0 | G13: Evaluate Goals:
G14: How well did you achieve the following goals?
A15: Fixed Expenses
A16: Rent or Accomodation | G16: A) | H16: Plan for a big ticket future purchase
A17: Internet/Cable | H17: Your Results: | I17: =B52 -> 0
A18: Cell Phone
A19: Streaming Service(s) | H19: What Challenges or Advantages will you encounter? (please record them below)
A20: Car Payment | H20: Refer to the handout "What is a person to do?" if you need ideas:
A21: Car Insurance
A22: Transportation
G25: B) | H25: Live within your means
H26: Your Results: | I26: Year 1 | J26: Year 2 | K26: Year 3 | L26: Year 4
I27: =B50 -> 0 | J27: =C50 -> 0 | K27: =D50 -> 0 | L27: =E50 -> 0
A28: Variable Expenses
A29: Groceries | H29: What Challenges or Advantages will you encounter? (please record them below)
A30: Dining out | H30: Refer to the handout "What is a person to do?" if you need ideas:
A31: Utilities
A32: Parking
A33: Gas
A34: Entertainment
A35: Personal Shopping | G35: C) | H35: Build an Emergency Fund
A36: Household Items | H36: Your Results: | I36: =B52 -> 0
A37: Laundry
A38: Medical Expenses | H38: What Challenges or Advantages will you encounter? (please record them below)
A39: Saving Deposits | H39: Refer to the handout "What is a person to do?" if you need ideas:
A40: Investment Deposits
A41: Saving Deposits
A42: Investment Deposits
G44: D) | H44: Investing for Retirement
H45: Your Results: | I45: =B52 -> 0
A47: TOTAL EXPENSES | B47: =SUM(B16:B46) -> 0 | C47: =SUM(C16:C46) -> 0 | D47: =SUM(D16:D46) -> 0 | E47: =SUM(E16:E46) -> 0 | H47: What Challenges or Advantages will you encounter? (please record them below)
...

Sheet WORK ONLY - Contraction
A1: How the Business Cycle Affects Your Financial Plan
A2: Work Only - Contraction Period
B4: Year
A5: Categories | B5: 1 | C5: 2 | D5: 3 | E5: 4
A6: Income
A7: Full time job | B7: ='WORK ONLY - Expansion'!B7 -> 0 | C7: ='WORK ONLY - Expansion'!C7 -> 0 | D7: ='WORK ONLY - Expansion'!D7 -> 0 | E7: ='WORK ONLY - Expansion'!E7 -> 0
A8: Part time job | B8: ='WORK ONLY - Expansion'!B8 -> 0 | C8: ='WORK ONLY - Expansion'!C8 -> 0 | D8: ='WORK ONLY - Expansion'!D8 -> 0 | E8: ='WORK ONLY - Expansion'!E8 -> 0
A9: Part time job | B9: ='WORK ONLY - Expansion'!B9 -> 0 | C9: ='WORK ONLY - Expansion'!C9 -> 0 | D9: ='WORK ONLY - Expansion'!D9 -> 0 | E9: ='WORK ONLY - Expansion'!E9 -> 0
A10: Parents Funds | B10: ='WORK ONLY - Expansion'!B10 -> 0 | C10: ='WORK ONLY - Expansion'!C10 -> 0 | D10: ='WORK ONLY - Expansion'!D10 -> 0 | E10: ='WORK ONLY - Expansion'!E10 -> 0
B11: ='WORK ONLY - Expansion'!B11 -> 0 | C11: ='WORK ONLY - Expansion'!C11 -> 0 | D11: ='WORK ONLY - Expansion'!D11 -> 0 | E11: ='WORK ONLY - Expansion'!E11 -> 0
G12: ✅ Parent loses their job during contraction (delete from income)
A13: TOTAL INCOME | B13: =SUM(B7:B12) -> 0 | C13: =SUM(C7:C12) -> 0 | D13: =SUM(D7:D12) -> 0 | E13: =SUM(E7:E12) -> 0 | G13: ✅ Fewer full time jobs exist or layoffs occur (delete from income)
G14: ✅ Fewer part time jobs exists (delete from income)
A15: Fixed Expenses | G15: ✅ Competition for cheaper goods/services increases (cost of expenses increase)
A16: Rent or Accomodation | B16: ='WORK ONLY - Expansion'!B16 -> 0 | C16: ='WORK ONLY - Expansion'!C16 -> 0 | D16: ='WORK ONLY - Expansion'!D16 -> 0 | E16: ='WORK ONLY - Expansion'!E16 -> 0
A17: Internet/Cable | B17: ='WORK ONLY - Expansion'!B17 -> 0 | C17: ='WORK ONLY - Expansion'!C17 -> 0 | D17: ='WORK ONLY - Expansion'!D17 -> 0 | E17: ='WORK ONLY - Expansion'!E17 -> 0 | G17: Explain your reasoning for selecting these scenarios
A18: Cell Phone | B18: ='WORK ONLY - Expansion'!B18 -> 0 | C18: ='WORK ONLY - Expansion'!C18 -> 0 | D18: ='WORK ONLY - Expansion'!D18 -> 0 | E18: ='WORK ONLY - Expansion'!E18 -> 0
A19: Streaming Service(s) | B19: ='WORK ONLY - Expansion'!B19 -> 0 | C19: ='WORK ONLY - Expansion'!C19 -> 0 | D19: ='WORK ONLY - Expansion'!D19 -> 0 | E19: ='WORK ONLY - Expansion'!E19 -> 0 | G19: Instructions:
A20: Car Payment | B20: ='WORK ONLY - Expansion'!B20 -> 0 | C20: ='WORK ONLY - Expansion'!C20 -> 0 | D20: ='WORK ONLY - Expansion'!D20 -> 0 | E20: ='WORK ONLY - Expansion'!E20 -> 0
A21: Car Insurance | B21: ='WORK ONLY - Expansion'!B21 -> 0 | C21: ='WORK ONLY - Expansion'!C21 -> 0 | D21: ='WORK ONLY - Expansion'!D21 -> 0 | E21: ='WORK ONLY - Expansion'!E21 -> 0 | G21: NOW THAT YOU IDENTIFIED POTENTIAL SCENARIOS DURING CONTRACTION, ADJUST YOUR BUDGET
A22: Transportation | B22: ='WORK ONLY - Expansion'!B22 -> 0 | C22: ='WORK ONLY - Expansion'!C22 -> 0 | D22: ='WORK ONLY - Expansion'!D22 -> 0 | E22: ='WORK ONLY - Expansion'!E22 -> 0
G23: 1. For each of the scenarios you identified, add or delete the Income Sources
G25: 2. For each of the scenarios identified, increase or decrease the Expense Items
G27: 3. Evaluate how well you've met your goals in this Contraction period by answering the questions below:
A28: Variable Expenses
A29: Groceries | B29: ='WORK ONLY - Expansion'!B29 -> 0 | C29: ='WORK ONLY - Expansion'!C29 -> 0 | D29: ='WORK ONLY - Expansion'!D29 -> 0 | E29: ='WORK ONLY - Expansion'!E29 -> 0
A30: Dining out | B30: ='WORK ONLY - Expansion'!B30 -> 0 | C30: ='WORK ONLY - Expansion'!C30 -> 0 | D30: ='WORK ONLY - Expansion'!D30 -> 0 | E30: ='WORK ONLY - Expansion'!E30 -> 0 | G30: Evaluate Goals:
A31: Utilities | B31: ='WORK ONLY - Expansion'!B31 -> 0 | C31: ='WORK ONLY - Expansion'!C31 -> 0 | D31: ='WORK ONLY - Expansion'!D31 -> 0 | E31: ='WORK ONLY - Expansion'!E31 -> 0 | G31: How well did you achieve the following goals?
A32: Parking | B32: ='WORK ONLY - Expansion'!B32 -> 0 | C32: ='WORK ONLY - Expansion'!C32 -> 0 | D32: ='WORK ONLY - Expansion'!D32 -> 0 | E32: ='WORK ONLY - Expansion'!E32 -> 0
A33: Gas | B33: ='WORK ONLY - Expansion'!B33 -> 0 | C33: ='WORK ONLY - Expansion'!C33 -> 0 | D33: ='WORK ONLY - Expansion'!D33 -> 0 | E33: ='WORK ONLY - Expansion'!E33 -> 0 | G33: A) | H33: Plan for a big ticket future purchase
A34: Entertainment | B34: ='WORK ONLY - Expansion'!B34 -> 0 | C34: ='WORK ONLY - Expansion'!C34 -> 0 | D34: ='WORK ONLY - Expansion'!D34 -> 0 | E34: ='WORK ONLY - Expansion'!E34 -> 0 | H34: Your Results: | I34: =B54 -> 0
A35: Personal Shopping | B35: ='WORK ONLY - Expansion'!B35 -> 0 | C35: ='WORK ONLY - Expansion'!C35 -> 0 | D35: ='WORK ONLY - Expansion'!D35 -> 0 | E35: ='WORK ONLY - Expansion'!E35 -> 0
A36: Household Items | B36: ='WORK ONLY - Expansion'!B36 -> 0 | C36: ='WORK ONLY - Expansion'!C36 -> 0 | D36: ='WORK ONLY - Expansion'!D36 -> 0 | E36: ='WORK ONLY - Expansion'!E36 -> 0 | H36: What Challenges or Advantages will you encounter? (please record them below)
A37: Laundry | B37: ='WORK ONLY - Expansion'!B37 -> 0 | C37: ='WORK ONLY - Expansion'!C37 -> 0 | D37: ='WORK ONLY - Expansion'!D37 -> 0 | E37: ='WORK ONLY - Expansion'!E37 -> 0 | H37: Refer to the handout "What is a person to do?" if you need ideas:
A38: Medical Expenses | B38: ='WORK ONLY - Expansion'!B38 -> 0 | C38: ='WORK ONLY - Expansion'!C38 -> 0 | D38: ='WORK ONLY - Expansion'!D38 -> 0 | E38: ='WORK ONLY - Expansion'!E38 -> 0
A39: Saving Deposits | B39: ='WORK ONLY - Expansion'!B39 -> 0 | C39: ='WORK ONLY - Expansion'!C39 -> 0 | D39: ='WORK ONLY - Expansion'!D39 -> 0 | E39: ='WORK ONLY - Expansion'!E39 -> 0
A40: Investment Deposits | B40: ='WORK ONLY - Expansion'!B40 -> 0 | C40: ='WORK ONLY - Expansion'!C40 -> 0 | D40: ='WORK ONLY - Expansion'!D40 -> 0 | E40: ='WORK ONLY - Expansion'!E40 -> 0
A41: Saving Deposits | B41: ='WORK ONLY - Expansion'!B41 -> 0 | C41: ='WORK ONLY - Expansion'!C41 -> 0 | D41: ='WORK ONLY - Expansion'!D41 -> 0 | E41: ='WORK ONLY - Expansion'!E41 -> 0
A42: Investment Deposits | B42: ='WORK ONLY - Expansion'!B42 -> 0 | C42: ='WORK ONLY - Expansion'!C42 -> 0 | D42: ='WORK ONLY - Expansion'!D42 -> 0 | E42: ='WORK ONLY - Expansion'!E42 -> 0 | G42: B) | H42: Live within your means
H43: Your Results: | I43: Year 1 | J43: Year 2 | K43: Year 3 | L43: Year 4
...

Sheet WORK ONLY - Action Plan
B1: Summary of Expansion and Contraction Years (compared)
B2: Work Only - ACTION PLAN
B4: Summary of data (from previous worksheets)
C5: Debt or Surplus
B6: Expansion | C6: ='WORK ONLY - Expansion'!B52 -> 0 | D6: These are your financial plan results under each scenario. Which scenario got you a better result? (Expansion or Contraction)
B7: Contraction | C7: ='WORK ONLY - Contraction'!B52 -> 0
B10: IT'S TURKEY RESCUE TIME! Based on your results, decide which strategies are most approprate for you using the Decision Table below :
B12: Instructions:
B14: Using the Drop Down Menus in each column: (click on the cell)
B15: Note: Steps 1 to 5 must be done in order
B17: 1. Select the stage of the business cycle in the Business Cycle Column.
B19: 2. Next, select the Economic Condition presenting itself.
B21: 3. Finally, select an appropriate Strategy to respond to the economic condition.
B23: 4. Identify a specific action you'll need to take to make the strategy happen.
B25: 5. Repeat until you've identified at least 3 actions to help you achieve your goals.
B28: Business Cycle | C28: Economic Condition | D28: Strategies: | E28: What specific action will you need to take?
F29: Expansion | G29: Contraction | I29: High_Unemployment | J29: Lower_Income_per_Capita | K29: Higher_Interest_Rates | L29: Low_Unemployment | M29: Higher_Income_per_Capita | N29: Lower_Interest_Rates
F30: Low_Unemployment | G30: High_Unemployment | I30: Employment Insurance | J30: Re-examine current spending habits | K30: Put savings into a high-interest savings account | L30: Ask for a raise or promotion | M30: Build an emergency savings fund | N30: Borrow to invest in long-term investments
F31: Higher_Income_per_Capita | G31: Lower_Income_per_Capita | I31: Use Better Jobs Ontario (up to $28,000 in subsidized costs) | J31: Avoid major purchases | K31: Pay off or refinance variable rate loans | L31: Find a job matched to your skills and interests | M31: Pay down debt with extra income | N31: Lock in lower interest rates
F32: Lower_Interest_Rates | G32: Higher_Interest_Rates | I32: Consider academic studies or upgrading skills | J32: Cut non-essential expenses | K32: Sell securities, buy bonds | L32: Find a higher paying job | M32: Increase retirement savings | N32: Sell bonds, buy securities
B39: FINALLY, use this information to complete the next part of the assignment (discussion questions)

Sheet Google Sheet Link
A1: For a Google Sheet version, download at:
A2: https://docs.google.com/spreadsheets/d/1Q-SLvH1tsDRr5GNGrDqIzjv8Ik8aI9X8/copy
